BEGIN:VCALENDAR
VERSION:2.0
PRODID:-//Gemeinde Siebenbäumen - ECPv4.6.8//NONSGML v1.0//EN
CALSCALE:GREGORIAN
METHOD:PUBLISH
X-WR-CALNAME:Gemeinde Siebenbäumen
X-ORIGINAL-URL:https://www.xn--siebenbumen-r8a.de
X-WR-CALDESC:Events for Gemeinde Siebenbäumen
BEGIN:VEVENT
DTSTART;VALUE=DATE:20180623
DTEND;VALUE=DATE:20180624
DTSTAMP:20260421T134612
CREATED:20180101T130516Z
LAST-MODIFIED:20180101T130516Z
UID:482-1529712000-1529798399@www.xn--siebenbumen-r8a.de
SUMMARY:Bildermarkt
DESCRIPTION:
URL:https://www.xn--siebenbumen-r8a.de/?tribe_events=bildermarkt-2
END:VEVENT
END:VCALENDAR