BEGIN:VCALENDAR
VERSION:2.0
PRODID:-//Gemeinde Siebenbäumen - ECPv4.6.8//NONSGML v1.0//EN
CALSCALE:GREGORIAN
METHOD:PUBLISH
X-WR-CALNAME:Gemeinde Siebenbäumen
X-ORIGINAL-URL:https://www.xn--siebenbumen-r8a.de
X-WR-CALDESC:Events for Gemeinde Siebenbäumen
BEGIN:VEVENT
DTSTART;VALUE=DATE:20250223
DTEND;VALUE=DATE:20250224
DTSTAMP:20260419T193922
CREATED:20250102T180456Z
LAST-MODIFIED:20250102T180456Z
UID:1716-1740268800-1740355199@www.xn--siebenbumen-r8a.de
SUMMARY:Bundestagswahl
DESCRIPTION:
URL:https://www.xn--siebenbumen-r8a.de/?tribe_events=bundestagswahl
END:VEVENT
END:VCALENDAR