BEGIN:VCALENDAR
VERSION:2.0
PRODID:-//Gemeinde Siebenbäumen - ECPv4.6.8//NONSGML v1.0//EN
CALSCALE:GREGORIAN
METHOD:PUBLISH
X-WR-CALNAME:Gemeinde Siebenbäumen
X-ORIGINAL-URL:https://www.xn--siebenbumen-r8a.de
X-WR-CALDESC:Events for Gemeinde Siebenbäumen
BEGIN:VEVENT
DTSTART;VALUE=DATE:20180526
DTEND;VALUE=DATE:20180527
DTSTAMP:20260425T192833
CREATED:20171230T162036Z
LAST-MODIFIED:20171230T162036Z
UID:468-1527292800-1527379199@www.xn--siebenbumen-r8a.de
SUMMARY:Deckenflohmarkt
DESCRIPTION:
URL:https://www.xn--siebenbumen-r8a.de/?tribe_events=deckenflohmarkt
END:VEVENT
END:VCALENDAR