BEGIN:VCALENDAR
VERSION:2.0
PRODID:-//Gemeinde Siebenbäumen - ECPv4.6.8//NONSGML v1.0//EN
CALSCALE:GREGORIAN
METHOD:PUBLISH
X-WR-CALNAME:Gemeinde Siebenbäumen
X-ORIGINAL-URL:https://www.xn--siebenbumen-r8a.de
X-WR-CALDESC:Events for Gemeinde Siebenbäumen
BEGIN:VEVENT
DTSTART;VALUE=DATE:20261010
DTEND;VALUE=DATE:20261011
DTSTAMP:20260425T110359
CREATED:20260111T085028Z
LAST-MODIFIED:20260111T085028Z
UID:2046-1791590400-1791676799@www.xn--siebenbumen-r8a.de
SUMMARY:Dorffest
DESCRIPTION:
URL:https://www.xn--siebenbumen-r8a.de/?tribe_events=dorffest-2
END:VEVENT
END:VCALENDAR