BEGIN:VCALENDAR
VERSION:2.0
PRODID:-//Gemeinde Siebenbäumen - ECPv4.6.8//NONSGML v1.0//EN
CALSCALE:GREGORIAN
METHOD:PUBLISH
X-WR-CALNAME:Gemeinde Siebenbäumen
X-ORIGINAL-URL:https://www.xn--siebenbumen-r8a.de
X-WR-CALDESC:Events for Gemeinde Siebenbäumen
BEGIN:VEVENT
DTSTART;VALUE=DATE:20261110
DTEND;VALUE=DATE:20261111
DTSTAMP:20260425T144728
CREATED:20260111T085142Z
LAST-MODIFIED:20260111T085142Z
UID:2050-1794268800-1794355199@www.xn--siebenbumen-r8a.de
SUMMARY:Finanzauschuss-Sitzung
DESCRIPTION:
URL:https://www.xn--siebenbumen-r8a.de/?tribe_events=finanzauschuss-sitzung
END:VEVENT
END:VCALENDAR