BEGIN:VCALENDAR
VERSION:2.0
PRODID:-//Gemeinde Siebenbäumen - ECPv4.6.8//NONSGML v1.0//EN
CALSCALE:GREGORIAN
METHOD:PUBLISH
X-WR-CALNAME:Gemeinde Siebenbäumen
X-ORIGINAL-URL:https://www.xn--siebenbumen-r8a.de
X-WR-CALDESC:Events for Gemeinde Siebenbäumen
BEGIN:VEVENT
DTSTART;VALUE=DATE:20180506
DTEND;VALUE=DATE:20180507
DTSTAMP:20260426T004919
CREATED:20171230T161746Z
LAST-MODIFIED:20171230T161746Z
UID:462-1525564800-1525651199@www.xn--siebenbumen-r8a.de
SUMMARY:Gemeinde- und Kreiswahl
DESCRIPTION:
URL:https://www.xn--siebenbumen-r8a.de/?tribe_events=gemeinde-und-kreiswahl
END:VEVENT
END:VCALENDAR