BEGIN:VCALENDAR
VERSION:2.0
PRODID:-//Gemeinde Siebenbäumen - ECPv4.6.8//NONSGML v1.0//EN
CALSCALE:GREGORIAN
METHOD:PUBLISH
X-WR-CALNAME:Gemeinde Siebenbäumen
X-ORIGINAL-URL:https://www.xn--siebenbumen-r8a.de
X-WR-CALDESC:Events for Gemeinde Siebenbäumen
BEGIN:VEVENT
DTSTART;VALUE=DATE:20161104
DTEND;VALUE=DATE:20161105
DTSTAMP:20260423T155415
CREATED:20160306T090333Z
LAST-MODIFIED:20160306T090333Z
UID:312-1478217600-1478303999@www.xn--siebenbumen-r8a.de
SUMMARY:Gesellschaftsspieleabend
DESCRIPTION:
URL:https://www.xn--siebenbumen-r8a.de/?tribe_events=gesellschaftsspieleabend-2
END:VEVENT
END:VCALENDAR