BEGIN:VCALENDAR
VERSION:2.0
PRODID:-//Gemeinde Siebenbäumen - ECPv4.6.8//NONSGML v1.0//EN
CALSCALE:GREGORIAN
METHOD:PUBLISH
X-WR-CALNAME:Gemeinde Siebenbäumen
X-ORIGINAL-URL:https://www.xn--siebenbumen-r8a.de
X-WR-CALDESC:Events for Gemeinde Siebenbäumen
BEGIN:VEVENT
DTSTART;VALUE=DATE:20260822
DTEND;VALUE=DATE:20260823
DTSTAMP:20260421T101229
CREATED:20260111T084606Z
LAST-MODIFIED:20260111T084606Z
UID:2032-1787356800-1787443199@www.xn--siebenbumen-r8a.de
SUMMARY:Kinderfest
DESCRIPTION:
URL:https://www.xn--siebenbumen-r8a.de/?tribe_events=kinderfest-5
END:VEVENT
END:VCALENDAR