BEGIN:VCALENDAR
VERSION:2.0
PRODID:-//Gemeinde Siebenbäumen - ECPv4.6.8//NONSGML v1.0//EN
CALSCALE:GREGORIAN
METHOD:PUBLISH
X-WR-CALNAME:Gemeinde Siebenbäumen
X-ORIGINAL-URL:https://www.xn--siebenbumen-r8a.de
X-WR-CALDESC:Events for Gemeinde Siebenbäumen
BEGIN:VEVENT
DTSTART;VALUE=DATE:20161108
DTEND;VALUE=DATE:20161109
DTSTAMP:20260423T141044
CREATED:20160306T090420Z
LAST-MODIFIED:20160306T090420Z
UID:313-1478563200-1478649599@www.xn--siebenbumen-r8a.de
SUMMARY:Kulturausschuss-Sitzung
DESCRIPTION:
URL:https://www.xn--siebenbumen-r8a.de/?tribe_events=kulturausschuss-sitzung
END:VEVENT
END:VCALENDAR