BEGIN:VCALENDAR
VERSION:2.0
PRODID:-//Gemeinde Siebenbäumen - ECPv4.6.8//NONSGML v1.0//EN
CALSCALE:GREGORIAN
METHOD:PUBLISH
X-WR-CALNAME:Gemeinde Siebenbäumen
X-ORIGINAL-URL:https://www.xn--siebenbumen-r8a.de
X-WR-CALDESC:Events for Gemeinde Siebenbäumen
BEGIN:VEVENT
DTSTART;VALUE=DATE:20160918
DTEND;VALUE=DATE:20160919
DTSTAMP:20260425T161547
CREATED:20160306T085900Z
LAST-MODIFIED:20160306T085900Z
UID:304-1474156800-1474243199@www.xn--siebenbumen-r8a.de
SUMMARY:Oktoberfest mit Gottesdienst
DESCRIPTION:
URL:https://www.xn--siebenbumen-r8a.de/?tribe_events=oktoberfest-mit-gottesdienst
END:VEVENT
END:VCALENDAR