BEGIN:VCALENDAR
VERSION:2.0
PRODID:-//Gemeinde Siebenbäumen - ECPv4.6.8//NONSGML v1.0//EN
CALSCALE:GREGORIAN
METHOD:PUBLISH
X-WR-CALNAME:Gemeinde Siebenbäumen
X-ORIGINAL-URL:https://www.xn--siebenbumen-r8a.de
X-WR-CALDESC:Events for Gemeinde Siebenbäumen
BEGIN:VEVENT
DTSTART;VALUE=DATE:20260404
DTEND;VALUE=DATE:20260405
DTSTAMP:20260424T025518
CREATED:20260111T083113Z
LAST-MODIFIED:20260111T083113Z
UID:1991-1775260800-1775347199@www.xn--siebenbumen-r8a.de
SUMMARY:Osterfeuer
DESCRIPTION:
URL:https://www.xn--siebenbumen-r8a.de/?tribe_events=osterfeuer-6
END:VEVENT
END:VCALENDAR