BEGIN:VCALENDAR
VERSION:2.0
PRODID:-//Gemeinde Siebenbäumen - ECPv4.6.8//NONSGML v1.0//EN
CALSCALE:GREGORIAN
METHOD:PUBLISH
X-WR-CALNAME:Gemeinde Siebenbäumen
X-ORIGINAL-URL:https://www.xn--siebenbumen-r8a.de
X-WR-CALDESC:Events for Gemeinde Siebenbäumen
BEGIN:VEVENT
DTSTART;VALUE=DATE:20260919
DTEND;VALUE=DATE:20260921
DTSTAMP:20260421T170507
CREATED:20260111T084852Z
LAST-MODIFIED:20260111T084852Z
UID:2040-1789776000-1789948799@www.xn--siebenbumen-r8a.de
SUMMARY:Pilgertour: Neustadt-Grömitz
DESCRIPTION:
URL:https://www.xn--siebenbumen-r8a.de/?tribe_events=pilgertour-neustadt-groemitz
END:VEVENT
END:VCALENDAR