BEGIN:VCALENDAR
VERSION:2.0
PRODID:-//Gemeinde Siebenbäumen - ECPv4.6.8//NONSGML v1.0//EN
CALSCALE:GREGORIAN
METHOD:PUBLISH
X-WR-CALNAME:Gemeinde Siebenbäumen
X-ORIGINAL-URL:https://www.xn--siebenbumen-r8a.de
X-WR-CALDESC:Events for Gemeinde Siebenbäumen
BEGIN:VEVENT
DTSTART;VALUE=DATE:20260917
DTEND;VALUE=DATE:20260918
DTSTAMP:20260421T152547
CREATED:20260111T084808Z
LAST-MODIFIED:20260111T084808Z
UID:2038-1789603200-1789689599@www.xn--siebenbumen-r8a.de
SUMMARY:Sitzung der Gemeindevertretung
DESCRIPTION:
URL:https://www.xn--siebenbumen-r8a.de/?tribe_events=sitzung-der-gemeindevertretung-11
END:VEVENT
END:VCALENDAR