BEGIN:VCALENDAR
VERSION:2.0
PRODID:-//Gemeinde Siebenbäumen - ECPv4.6.8//NONSGML v1.0//EN
CALSCALE:GREGORIAN
METHOD:PUBLISH
X-WR-CALNAME:Gemeinde Siebenbäumen
X-ORIGINAL-URL:https://www.xn--siebenbumen-r8a.de
X-WR-CALDESC:Events for Gemeinde Siebenbäumen
BEGIN:VEVENT
DTSTART;VALUE=DATE:20261124
DTEND;VALUE=DATE:20261125
DTSTAMP:20260425T175821
CREATED:20260111T085257Z
LAST-MODIFIED:20260111T085257Z
UID:2054-1795478400-1795564799@www.xn--siebenbumen-r8a.de
SUMMARY:Sitzung der Gemeindevertretung
DESCRIPTION:
URL:https://www.xn--siebenbumen-r8a.de/?tribe_events=sitzung-der-gemeindevertretung-12
END:VEVENT
END:VCALENDAR