BEGIN:VCALENDAR
VERSION:2.0
PRODID:-//Gemeinde Siebenbäumen - ECPv4.6.8//NONSGML v1.0//EN
CALSCALE:GREGORIAN
METHOD:PUBLISH
X-WR-CALNAME:Gemeinde Siebenbäumen
X-ORIGINAL-URL:https://www.xn--siebenbumen-r8a.de
X-WR-CALDESC:Events for Gemeinde Siebenbäumen
BEGIN:VEVENT
DTSTART;VALUE=DATE:20190913
DTEND;VALUE=DATE:20190914
DTSTAMP:20260421T080903
CREATED:20190107T075542Z
LAST-MODIFIED:20190107T075542Z
UID:836-1568332800-1568419199@www.xn--siebenbumen-r8a.de
SUMMARY:Sommermusik
DESCRIPTION:
URL:https://www.xn--siebenbumen-r8a.de/?tribe_events=sommermusik-4
END:VEVENT
END:VCALENDAR