BEGIN:VCALENDAR
VERSION:2.0
PRODID:-//Gemeinde Siebenbäumen - ECPv4.6.8//NONSGML v1.0//EN
CALSCALE:GREGORIAN
METHOD:PUBLISH
X-WR-CALNAME:Gemeinde Siebenbäumen
X-ORIGINAL-URL:https://www.xn--siebenbumen-r8a.de
X-WR-CALDESC:Events for Gemeinde Siebenbäumen
BEGIN:VEVENT
DTSTART;VALUE=DATE:20180602
DTEND;VALUE=DATE:20180603
DTSTAMP:20260425T161120
CREATED:20180101T130211Z
LAST-MODIFIED:20180101T130211Z
UID:474-1527897600-1527983999@www.xn--siebenbumen-r8a.de
SUMMARY:Tagesfahrt
DESCRIPTION:
URL:https://www.xn--siebenbumen-r8a.de/?tribe_events=tagesfahrt
END:VEVENT
END:VCALENDAR