BEGIN:VCALENDAR
VERSION:2.0
PRODID:-//Gemeinde Siebenbäumen - ECPv4.6.8//NONSGML v1.0//EN
CALSCALE:GREGORIAN
METHOD:PUBLISH
X-WR-CALNAME:Gemeinde Siebenbäumen
X-ORIGINAL-URL:https://www.xn--siebenbumen-r8a.de
X-WR-CALDESC:Events for Gemeinde Siebenbäumen
BEGIN:VEVENT
DTSTART;VALUE=DATE:20261212
DTEND;VALUE=DATE:20261213
DTSTAMP:20260426T042013
CREATED:20260111T085629Z
LAST-MODIFIED:20260111T085629Z
UID:2066-1797033600-1797119999@www.xn--siebenbumen-r8a.de
SUMMARY:Weihnachtsfeier
DESCRIPTION:
URL:https://www.xn--siebenbumen-r8a.de/?tribe_events=weihnachtsfeier-6
END:VEVENT
END:VCALENDAR